BEGIN:VCALENDAR
PRODID:-//nuDatenautomaten//framework iCal4j //DE
VERSION:2.0
CALSCALE:GREGORIAN
BEGIN:VTIMEZONE
TZID:Europe/Berlin
LAST-MODIFIED:20260306T231828Z
TZURL:https://www.tzurl.org/zoneinfo/Europe/Berlin
X-LIC-LOCATION:Europe/Berlin
X-PROLEPTIC-TZNAME:LMT
BEGIN:STANDARD
TZNAME:CET
TZOFFSETFROM:+005328
TZOFFSETTO:+0100
DTSTART:18930401T000000
END:STANDARD
BEGIN:DAYLIGHT
TZNAME:CEST
TZOFFSETFROM:+0100
TZOFFSETTO:+0200
DTSTART:19160430T230000
RDATE:19400401T020000
RDATE:19430329T020000
RDATE:19460414T020000
RDATE:19470406T030000
RDATE:19480418T020000
RDATE:19490410T020000
RDATE:19800406T020000
END:DAYLIGHT
BEGIN:STANDARD
TZNAME:CET
TZOFFSETFROM:+0200
TZOFFSETTO:+0100
DTSTART:19161001T010000
RDATE:19421102T030000
RDATE:19431004T030000
RDATE:19441002T030000
RDATE:19451118T030000
RDATE:19461007T030000
END:STANDARD
BEGIN:DAYLIGHT
TZNAME:CEST
TZOFFSETFROM:+0100
TZOFFSETTO:+0200
DTSTART:19170416T020000
RRULE:FREQ=YEARLY;UNTIL=19180415T010000Z;BYMONTH=4;BYDAY=3MO
END:DAYLIGHT
BEGIN:STANDARD
TZNAME:CET
TZOFFSETFROM:+0200
TZOFFSETTO:+0100
DTSTART:19170917T030000
RRULE:FREQ=YEARLY;UNTIL=19180916T010000Z;BYMONTH=9;BYDAY=3MO
END:STANDARD
BEGIN:DAYLIGHT
TZNAME:CEST
TZOFFSETFROM:+0100
TZOFFSETTO:+0200
DTSTART:19440403T020000
RRULE:FREQ=YEARLY;UNTIL=19450402T010000Z;BYMONTH=4;BYDAY=1MO
END:DAYLIGHT
BEGIN:DAYLIGHT
TZNAME:CEMT
TZOFFSETFROM:+0200
TZOFFSETTO:+0300
DTSTART:19450524T020000
RDATE:19470511T030000
END:DAYLIGHT
BEGIN:DAYLIGHT
TZNAME:CEST
TZOFFSETFROM:+0300
TZOFFSETTO:+0200
DTSTART:19450924T030000
RDATE:19470629T030000
END:DAYLIGHT
BEGIN:STANDARD
TZNAME:CET
TZOFFSETFROM:+0100
TZOFFSETTO:+0100
DTSTART:19460101T000000
RDATE:19800101T000000
END:STANDARD
BEGIN:STANDARD
TZNAME:CET
TZOFFSETFROM:+0200
TZOFFSETTO:+0100
DTSTART:19471005T030000
RRULE:FREQ=YEARLY;UNTIL=19491002T010000Z;BYMONTH=10;BYDAY=1SU
END:STANDARD
BEGIN:STANDARD
TZNAME:CET
TZOFFSETFROM:+0200
TZOFFSETTO:+0100
DTSTART:19800928T030000
RRULE:FREQ=YEARLY;UNTIL=19950924T010000Z;BYMONTH=9;BYDAY=-1SU
END:STANDARD
BEGIN:DAYLIGHT
TZNAME:CEST
TZOFFSETFROM:+0100
TZOFFSETTO:+0200
DTSTART:19810329T020000
RRULE:FREQ=YEARLY;BYMONTH=3;BYDAY=-1SU
END:DAYLIGHT
BEGIN:STANDARD
TZNAME:CET
TZOFFSETFROM:+0200
TZOFFSETTO:+0100
DTSTART:19961027T030000
RRULE:FREQ=YEARLY;BYMONTH=10;BYDAY=-1SU
END:STANDARD
END:VTIMEZONE
BEGIN:VEVENT
DTSTAMP:20260419T163358Z
DTSTART;TZID=Europe/Berlin:20151027T201500
DTEND;TZID=Europe/Berlin:20151027T231500
SUMMARY:6. Kreisklasse Lauenburger SV V vs TSV Wentorf-Sandesneben III (11)
UID:83382eda-3183-598e-e053-1fc7a80a5d7a
STATUS:CONFIRMED
LAST-MODIFIED:20190303T213435Z
DESCRIPTION:Herren - 6. Kreisklasse - Lauenburg\nBegegnungs-Nr: 11\nHeim: Lauenburger SV V\nGast: TSV Wentorf-Sandesneben III\n
LOCATION:
CATEGORIES:Saison 2015/16
END:VEVENT
BEGIN:VEVENT
DTSTAMP:20260419T163358Z
DTSTART;TZID=Europe/Berlin:20151013T201500
DTEND;TZID=Europe/Berlin:20151013T231500
SUMMARY:6. Kreisklasse Lauenburger SV V vs ESV Büchen VI (21)
UID:83382eda-3259-598e-e053-1fc7a80a5d7a
STATUS:CONFIRMED
LAST-MODIFIED:20190303T213435Z
DESCRIPTION:Herren - 6. Kreisklasse - Lauenburg\nBegegnungs-Nr: 21\nHeim: Lauenburger SV V\nGast: ESV Büchen VI\n
LOCATION:
CATEGORIES:Saison 2015/16
END:VEVENT
BEGIN:VEVENT
DTSTAMP:20260419T163358Z
DTSTART;TZID=Europe/Berlin:20151110T201500
DTEND;TZID=Europe/Berlin:20151110T231500
SUMMARY:6. Kreisklasse Lauenburger SV V vs Ratzeburger SV VI (32)
UID:83382eda-3346-598e-e053-1fc7a80a5d7a
STATUS:CONFIRMED
LAST-MODIFIED:20190303T213435Z
DESCRIPTION:Herren - 6. Kreisklasse - Lauenburg\nBegegnungs-Nr: 32\nHeim: Lauenburger SV V\nGast: Ratzeburger SV VI\n
LOCATION:
CATEGORIES:Saison 2015/16
END:VEVENT
BEGIN:VEVENT
DTSTAMP:20260419T163358Z
DTSTART;TZID=Europe/Berlin:20151124T201500
DTEND;TZID=Europe/Berlin:20151124T231500
SUMMARY:6. Kreisklasse Lauenburger SV V vs Turnerschaft Klinkrade  (41)
UID:83382eda-3408-598e-e053-1fc7a80a5d7a
STATUS:CONFIRMED
LAST-MODIFIED:20190303T213436Z
DESCRIPTION:Herren - 6. Kreisklasse - Lauenburg\nBegegnungs-Nr: 41\nHeim: Lauenburger SV V\nGast: Turnerschaft Klinkrade \n
LOCATION:
CATEGORIES:Saison 2015/16
END:VEVENT
BEGIN:VEVENT
DTSTAMP:20260419T163358Z
DTSTART;TZID=Europe/Berlin:20150922T201500
DTEND;TZID=Europe/Berlin:20150922T231500
SUMMARY:6. Kreisklasse Lauenburger SV V vs TSV Seedorf-Sterley II (7)
UID:83382eda-3495-598e-e053-1fc7a80a5d7a
STATUS:CONFIRMED
LAST-MODIFIED:20190303T213436Z
DESCRIPTION:Herren - 6. Kreisklasse - Lauenburg\nBegegnungs-Nr: 7\nHeim: Lauenburger SV V\nGast: TSV Seedorf-Sterley II\n
LOCATION:
CATEGORIES:Saison 2015/16
END:VEVENT
BEGIN:VEVENT
DTSTAMP:20260419T163358Z
DTSTART;TZID=Europe/Berlin:20160119T201500
DTEND;TZID=Europe/Berlin:20160119T231500
SUMMARY:6. Kreisklasse Lauenburger SV V vs TTC Mölln V (102)
UID:83382eda-34e9-598e-e053-1fc7a80a5d7a
STATUS:CONFIRMED
LAST-MODIFIED:20190303T213436Z
DESCRIPTION:Herren - 6. Kreisklasse - Lauenburg\nBegegnungs-Nr: 102\nHeim: Lauenburger SV V\nGast: TTC Mölln V\n
LOCATION:
CATEGORIES:Saison 2015/16
END:VEVENT
BEGIN:VEVENT
DTSTAMP:20260419T163358Z
DTSTART;TZID=Europe/Berlin:20160209T201500
DTEND;TZID=Europe/Berlin:20160209T231500
SUMMARY:6. Kreisklasse Lauenburger SV V vs Ratzeburger SV VII (116)
UID:83382eda-3605-598e-e053-1fc7a80a5d7a
STATUS:CONFIRMED
LAST-MODIFIED:20190303T213436Z
DESCRIPTION:Herren - 6. Kreisklasse - Lauenburg\nBegegnungs-Nr: 116\nHeim: Lauenburger SV V\nGast: Ratzeburger SV VII\n
LOCATION:
CATEGORIES:Saison 2015/16
END:VEVENT
BEGIN:VEVENT
DTSTAMP:20260419T163358Z
DTSTART;TZID=Europe/Berlin:20160223T201500
DTEND;TZID=Europe/Berlin:20160223T231500
SUMMARY:6. Kreisklasse Lauenburger SV V vs Breitenfelder SV IV (126)
UID:83382eda-36c8-598e-e053-1fc7a80a5d7a
STATUS:CONFIRMED
LAST-MODIFIED:20190303T213436Z
DESCRIPTION:Herren - 6. Kreisklasse - Lauenburg\nBegegnungs-Nr: 126\nHeim: Lauenburger SV V\nGast: Breitenfelder SV IV\n
LOCATION:
CATEGORIES:Saison 2015/16
END:VEVENT
BEGIN:VEVENT
DTSTAMP:20260419T163358Z
DTSTART;TZID=Europe/Berlin:20160308T201500
DTEND;TZID=Europe/Berlin:20160308T231500
SUMMARY:6. Kreisklasse Lauenburger SV V vs TSV Berkenthin  (136)
UID:83382eda-378d-598e-e053-1fc7a80a5d7a
STATUS:CONFIRMED
LAST-MODIFIED:20190303T213436Z
DESCRIPTION:Herren - 6. Kreisklasse - Lauenburg\nBegegnungs-Nr: 136\nHeim: Lauenburger SV V\nGast: TSV Berkenthin \n
LOCATION:
CATEGORIES:Saison 2015/16
END:VEVENT
BEGIN:VEVENT
DTSTAMP:20260419T163358Z
DTSTART;TZID=Europe/Berlin:20151008T200000
DTEND;TZID=Europe/Berlin:20151008T230000
SUMMARY:6. Kreisklasse Ratzeburger SV VII vs Lauenburger SV V (19)
UID:83382eda-3220-598e-e053-1fc7a80a5d7a
STATUS:CONFIRMED
LAST-MODIFIED:20190303T213435Z
DESCRIPTION:Herren - 6. Kreisklasse - Lauenburg\nBegegnungs-Nr: 19\nHeim: Ratzeburger SV VII\nGast: Lauenburger SV V\n
LOCATION:
CATEGORIES:Saison 2015/16
END:VEVENT
BEGIN:VEVENT
DTSTAMP:20260419T163358Z
DTSTART;TZID=Europe/Berlin:20151106T200000
DTEND;TZID=Europe/Berlin:20151106T230000
SUMMARY:6. Kreisklasse Breitenfelder SV IV vs Lauenburger SV V (30)
UID:83382eda-331d-598e-e053-1fc7a80a5d7a
STATUS:CONFIRMED
LAST-MODIFIED:20190303T213435Z
DESCRIPTION:Herren - 6. Kreisklasse - Lauenburg\nBegegnungs-Nr: 30\nHeim: Breitenfelder SV IV\nGast: Lauenburger SV V\n
LOCATION:
CATEGORIES:Saison 2015/16
END:VEVENT
BEGIN:VEVENT
DTSTAMP:20260419T163358Z
DTSTART;TZID=Europe/Berlin:20151119T200000
DTEND;TZID=Europe/Berlin:20151119T230000
SUMMARY:6. Kreisklasse TSV Berkenthin  vs Lauenburger SV V (38)
UID:83382eda-33b8-598e-e053-1fc7a80a5d7a
STATUS:CONFIRMED
LAST-MODIFIED:20190303T213436Z
DESCRIPTION:Herren - 6. Kreisklasse - Lauenburg\nBegegnungs-Nr: 38\nHeim: TSV Berkenthin \nGast: Lauenburger SV V\n
LOCATION:
CATEGORIES:Saison 2015/16
END:VEVENT
BEGIN:VEVENT
DTSTAMP:20260419T163358Z
DTSTART;TZID=Europe/Berlin:20150918T200000
DTEND;TZID=Europe/Berlin:20150918T230000
SUMMARY:6. Kreisklasse TTC Mölln V vs Lauenburger SV V (4)
UID:83382eda-33e2-598e-e053-1fc7a80a5d7a
STATUS:CONFIRMED
LAST-MODIFIED:20190303T213436Z
DESCRIPTION:Herren - 6. Kreisklasse - Lauenburg\nBegegnungs-Nr: 4\nHeim: TTC Mölln V\nGast: Lauenburger SV V\n
LOCATION:
CATEGORIES:Saison 2015/16
END:VEVENT
BEGIN:VEVENT
DTSTAMP:20260419T163358Z
DTSTART;TZID=Europe/Berlin:20160307T200000
DTEND;TZID=Europe/Berlin:20160307T230000
SUMMARY:6. Kreisklasse TSV Seedorf-Sterley II vs Lauenburger SV V (107)
UID:83382eda-354f-598e-e053-1fc7a80a5d7a
STATUS:CONFIRMED
LAST-MODIFIED:20190303T213436Z
DESCRIPTION:Herren - 6. Kreisklasse - Lauenburg\nBegegnungs-Nr: 107\nHeim: TSV Seedorf-Sterley II\nGast: Lauenburger SV V\n
LOCATION:
CATEGORIES:Saison 2015/16
END:VEVENT
BEGIN:VEVENT
DTSTAMP:20260419T163358Z
DTSTART;TZID=Europe/Berlin:20160205T200000
DTEND;TZID=Europe/Berlin:20160205T230000
SUMMARY:6. Kreisklasse TSV Wentorf-Sandesneben III vs Lauenburger SV V (115)
UID:83382eda-35f0-598e-e053-1fc7a80a5d7a
STATUS:CONFIRMED
LAST-MODIFIED:20190303T213436Z
DESCRIPTION:Herren - 6. Kreisklasse - Lauenburg\nBegegnungs-Nr: 115\nHeim: TSV Wentorf-Sandesneben III\nGast: Lauenburger SV V\n
LOCATION:
CATEGORIES:Saison 2015/16
END:VEVENT
BEGIN:VEVENT
DTSTAMP:20260419T163358Z
DTSTART;TZID=Europe/Berlin:20160218T201500
DTEND;TZID=Europe/Berlin:20160218T231500
SUMMARY:6. Kreisklasse ESV Büchen VI vs Lauenburger SV V (125)
UID:83382eda-36b5-598e-e053-1fc7a80a5d7a
STATUS:CONFIRMED
LAST-MODIFIED:20190303T213436Z
DESCRIPTION:Herren - 6. Kreisklasse - Lauenburg\nBegegnungs-Nr: 125\nHeim: ESV Büchen VI\nGast: Lauenburger SV V\n
LOCATION:
CATEGORIES:Saison 2015/16
END:VEVENT
BEGIN:VEVENT
DTSTAMP:20260419T163358Z
DTSTART;TZID=Europe/Berlin:20160303T200000
DTEND;TZID=Europe/Berlin:20160303T230000
SUMMARY:6. Kreisklasse Ratzeburger SV VI vs Lauenburger SV V (133)
UID:83382eda-3751-598e-e053-1fc7a80a5d7a
STATUS:CONFIRMED
LAST-MODIFIED:20190303T213436Z
DESCRIPTION:Herren - 6. Kreisklasse - Lauenburg\nBegegnungs-Nr: 133\nHeim: Ratzeburger SV VI\nGast: Lauenburger SV V\n
LOCATION:
CATEGORIES:Saison 2015/16
END:VEVENT
BEGIN:VEVENT
DTSTAMP:20260419T163358Z
DTSTART;TZID=Europe/Berlin:20160322T200000
DTEND;TZID=Europe/Berlin:20160322T230000
SUMMARY:6. Kreisklasse Turnerschaft Klinkrade  vs Lauenburger SV V (142)
UID:83382eda-37f8-598e-e053-1fc7a80a5d7a
STATUS:CONFIRMED
LAST-MODIFIED:20190303T213436Z
DESCRIPTION:Herren - 6. Kreisklasse - Lauenburg\nBegegnungs-Nr: 142\nHeim: Turnerschaft Klinkrade \nGast: Lauenburger SV V\n
LOCATION:
CATEGORIES:Saison 2015/16
END:VEVENT
END:VCALENDAR
