BEGIN:VCALENDAR
PRODID:-//nuDatenautomaten//framework iCal4j //DE
VERSION:2.0
CALSCALE:GREGORIAN
BEGIN:VTIMEZONE
TZID:Europe/Berlin
LAST-MODIFIED:20260306T231828Z
TZURL:https://www.tzurl.org/zoneinfo/Europe/Berlin
X-LIC-LOCATION:Europe/Berlin
X-PROLEPTIC-TZNAME:LMT
BEGIN:STANDARD
TZNAME:CET
TZOFFSETFROM:+005328
TZOFFSETTO:+0100
DTSTART:18930401T000000
END:STANDARD
BEGIN:DAYLIGHT
TZNAME:CEST
TZOFFSETFROM:+0100
TZOFFSETTO:+0200
DTSTART:19160430T230000
RDATE:19400401T020000
RDATE:19430329T020000
RDATE:19460414T020000
RDATE:19470406T030000
RDATE:19480418T020000
RDATE:19490410T020000
RDATE:19800406T020000
END:DAYLIGHT
BEGIN:STANDARD
TZNAME:CET
TZOFFSETFROM:+0200
TZOFFSETTO:+0100
DTSTART:19161001T010000
RDATE:19421102T030000
RDATE:19431004T030000
RDATE:19441002T030000
RDATE:19451118T030000
RDATE:19461007T030000
END:STANDARD
BEGIN:DAYLIGHT
TZNAME:CEST
TZOFFSETFROM:+0100
TZOFFSETTO:+0200
DTSTART:19170416T020000
RRULE:FREQ=YEARLY;UNTIL=19180415T010000Z;BYMONTH=4;BYDAY=3MO
END:DAYLIGHT
BEGIN:STANDARD
TZNAME:CET
TZOFFSETFROM:+0200
TZOFFSETTO:+0100
DTSTART:19170917T030000
RRULE:FREQ=YEARLY;UNTIL=19180916T010000Z;BYMONTH=9;BYDAY=3MO
END:STANDARD
BEGIN:DAYLIGHT
TZNAME:CEST
TZOFFSETFROM:+0100
TZOFFSETTO:+0200
DTSTART:19440403T020000
RRULE:FREQ=YEARLY;UNTIL=19450402T010000Z;BYMONTH=4;BYDAY=1MO
END:DAYLIGHT
BEGIN:DAYLIGHT
TZNAME:CEMT
TZOFFSETFROM:+0200
TZOFFSETTO:+0300
DTSTART:19450524T020000
RDATE:19470511T030000
END:DAYLIGHT
BEGIN:DAYLIGHT
TZNAME:CEST
TZOFFSETFROM:+0300
TZOFFSETTO:+0200
DTSTART:19450924T030000
RDATE:19470629T030000
END:DAYLIGHT
BEGIN:STANDARD
TZNAME:CET
TZOFFSETFROM:+0100
TZOFFSETTO:+0100
DTSTART:19460101T000000
RDATE:19800101T000000
END:STANDARD
BEGIN:STANDARD
TZNAME:CET
TZOFFSETFROM:+0200
TZOFFSETTO:+0100
DTSTART:19471005T030000
RRULE:FREQ=YEARLY;UNTIL=19491002T010000Z;BYMONTH=10;BYDAY=1SU
END:STANDARD
BEGIN:STANDARD
TZNAME:CET
TZOFFSETFROM:+0200
TZOFFSETTO:+0100
DTSTART:19800928T030000
RRULE:FREQ=YEARLY;UNTIL=19950924T010000Z;BYMONTH=9;BYDAY=-1SU
END:STANDARD
BEGIN:DAYLIGHT
TZNAME:CEST
TZOFFSETFROM:+0100
TZOFFSETTO:+0200
DTSTART:19810329T020000
RRULE:FREQ=YEARLY;BYMONTH=3;BYDAY=-1SU
END:DAYLIGHT
BEGIN:STANDARD
TZNAME:CET
TZOFFSETFROM:+0200
TZOFFSETTO:+0100
DTSTART:19961027T030000
RRULE:FREQ=YEARLY;BYMONTH=10;BYDAY=-1SU
END:STANDARD
END:VTIMEZONE
BEGIN:VEVENT
DTSTAMP:20260419T164754Z
DTSTART;TZID=Europe/Berlin:20160930T193000
DTEND;TZID=Europe/Berlin:20160930T223000
SUMMARY:2. Bezirksliga B SV Fockbek IV vs Rendsburger TSV III (16)
UID:83382edd-324d-598e-e053-1fc7a80a5d7a
STATUS:CONFIRMED
LAST-MODIFIED:20190303T213717Z
DESCRIPTION:2. Bezirksliga B - Bezirk 2\nBegegnungs-Nr: 16\nHeim: SV Fockbek IV\nGast: Rendsburger TSV III\n
LOCATION:
CATEGORIES:Saison 2016/17
END:VEVENT
BEGIN:VEVENT
DTSTAMP:20260419T164754Z
DTSTART;TZID=Europe/Berlin:20161014T193000
DTEND;TZID=Europe/Berlin:20161014T223000
SUMMARY:2. Bezirksliga B SV Fockbek IV vs TTC Eckernförder Bucht  (29)
UID:83382edd-3378-598e-e053-1fc7a80a5d7a
STATUS:CONFIRMED
LAST-MODIFIED:20190303T213717Z
DESCRIPTION:2. Bezirksliga B - Bezirk 2\nBegegnungs-Nr: 29\nHeim: SV Fockbek IV\nGast: TTC Eckernförder Bucht \n
LOCATION:
CATEGORIES:Saison 2016/17
END:VEVENT
BEGIN:VEVENT
DTSTAMP:20260419T164754Z
DTSTART;TZID=Europe/Berlin:20161107T193000
DTEND;TZID=Europe/Berlin:20161107T223000
SUMMARY:2. Bezirksliga B SV Fockbek IV vs Polizei SV Neumünster  (37)
UID:83382edd-3428-598e-e053-1fc7a80a5d7a
STATUS:CONFIRMED
LAST-MODIFIED:20190303T213717Z
DESCRIPTION:2. Bezirksliga B - Bezirk 2\nBegegnungs-Nr: 37\nHeim: SV Fockbek IV\nGast: Polizei SV Neumünster \n
LOCATION:
CATEGORIES:Saison 2016/17
END:VEVENT
BEGIN:VEVENT
DTSTAMP:20260419T164754Z
DTSTART;TZID=Europe/Berlin:20160916T193000
DTEND;TZID=Europe/Berlin:20160916T223000
SUMMARY:2. Bezirksliga B SV Fockbek IV vs Brügger SV  (4)
UID:83382edd-3465-598e-e053-1fc7a80a5d7a
STATUS:CONFIRMED
LAST-MODIFIED:20190303T213717Z
DESCRIPTION:2. Bezirksliga B - Bezirk 2\nBegegnungs-Nr: 4\nHeim: SV Fockbek IV\nGast: Brügger SV \n
LOCATION:
CATEGORIES:Saison 2016/17
END:VEVENT
BEGIN:VEVENT
DTSTAMP:20260419T164754Z
DTSTART;TZID=Europe/Berlin:20161202T193000
DTEND;TZID=Europe/Berlin:20161202T223000
SUMMARY:2. Bezirksliga B SV Fockbek IV vs SV Wasbek  (58)
UID:83382edd-35c5-598e-e053-1fc7a80a5d7a
STATUS:CONFIRMED
LAST-MODIFIED:20190303T213717Z
DESCRIPTION:2. Bezirksliga B - Bezirk 2\nBegegnungs-Nr: 58\nHeim: SV Fockbek IV\nGast: SV Wasbek \n
LOCATION:
CATEGORIES:Saison 2016/17
END:VEVENT
BEGIN:VEVENT
DTSTAMP:20260419T164754Z
DTSTART;TZID=Europe/Berlin:20170127T193000
DTEND;TZID=Europe/Berlin:20170127T223000
SUMMARY:2. Bezirksliga B SV Fockbek IV vs SV Fockbek III (107)
UID:83382edd-374d-598e-e053-1fc7a80a5d7a
STATUS:CONFIRMED
LAST-MODIFIED:20190303T213718Z
DESCRIPTION:2. Bezirksliga B - Bezirk 2\nBegegnungs-Nr: 107\nHeim: SV Fockbek IV\nGast: SV Fockbek III\n
LOCATION:
CATEGORIES:Saison 2016/17
END:VEVENT
BEGIN:VEVENT
DTSTAMP:20260419T164754Z
DTSTART;TZID=Europe/Berlin:20170210T193000
DTEND;TZID=Europe/Berlin:20170210T223000
SUMMARY:2. Bezirksliga B SV Fockbek IV vs SC Mittelpunkt Nortorf III (118)
UID:83382edd-382c-598e-e053-1fc7a80a5d7a
STATUS:CONFIRMED
LAST-MODIFIED:20190303T213718Z
DESCRIPTION:2. Bezirksliga B - Bezirk 2\nBegegnungs-Nr: 118\nHeim: SV Fockbek IV\nGast: SC Mittelpunkt Nortorf III\n
LOCATION:
CATEGORIES:Saison 2016/17
END:VEVENT
BEGIN:VEVENT
DTSTAMP:20260419T164754Z
DTSTART;TZID=Europe/Berlin:20170223T193000
DTEND;TZID=Europe/Berlin:20170223T223000
SUMMARY:2. Bezirksliga B SV Fockbek IV vs TTC Eckernförder Bucht  (125)
UID:83382edd-38b4-598e-e053-1fc7a80a5d7a
STATUS:CONFIRMED
LAST-MODIFIED:20190303T213718Z
DESCRIPTION:2. Bezirksliga B - Bezirk 2\nBegegnungs-Nr: 125\nHeim: SV Fockbek IV\nGast: TTC Eckernförder Bucht \n
LOCATION:
CATEGORIES:Saison 2016/17
END:VEVENT
BEGIN:VEVENT
DTSTAMP:20260419T164754Z
DTSTART;TZID=Europe/Berlin:20170421T193000
DTEND;TZID=Europe/Berlin:20170421T223000
SUMMARY:2. Bezirksliga B SV Fockbek IV vs SV Tungendorf  (127)
UID:83382edd-38d8-598e-e053-1fc7a80a5d7a
STATUS:CONFIRMED
LAST-MODIFIED:20190303T213718Z
DESCRIPTION:2. Bezirksliga B - Bezirk 2\nBegegnungs-Nr: 127\nHeim: SV Fockbek IV\nGast: SV Tungendorf \n
LOCATION:
CATEGORIES:Saison 2016/17
END:VEVENT
BEGIN:VEVENT
DTSTAMP:20260419T164754Z
DTSTART;TZID=Europe/Berlin:20161007T200000
DTEND;TZID=Europe/Berlin:20161007T230000
SUMMARY:2. Bezirksliga B SC Mittelpunkt Nortorf III vs SV Fockbek IV (21)
UID:83382edd-32d0-598e-e053-1fc7a80a5d7a
STATUS:CONFIRMED
LAST-MODIFIED:20190303T213717Z
DESCRIPTION:2. Bezirksliga B - Bezirk 2\nBegegnungs-Nr: 21\nHeim: SC Mittelpunkt Nortorf III\nGast: SV Fockbek IV\n
LOCATION:
CATEGORIES:Saison 2016/17
END:VEVENT
BEGIN:VEVENT
DTSTAMP:20260419T164754Z
DTSTART;TZID=Europe/Berlin:20161104T191500
DTEND;TZID=Europe/Berlin:20161104T221500
SUMMARY:2. Bezirksliga B SV Tungendorf  vs SV Fockbek IV (31)
UID:83382edd-33b1-598e-e053-1fc7a80a5d7a
STATUS:CONFIRMED
LAST-MODIFIED:20190303T213717Z
DESCRIPTION:2. Bezirksliga B - Bezirk 2\nBegegnungs-Nr: 31\nHeim: SV Tungendorf \nGast: SV Fockbek IV\n
LOCATION:
CATEGORIES:Saison 2016/17
END:VEVENT
BEGIN:VEVENT
DTSTAMP:20260419T164754Z
DTSTART;TZID=Europe/Berlin:20161125T193000
DTEND;TZID=Europe/Berlin:20161125T223000
SUMMARY:2. Bezirksliga B Eckernförder MTV  vs SV Fockbek IV (49)
UID:83382edd-351f-598e-e053-1fc7a80a5d7a
STATUS:CONFIRMED
LAST-MODIFIED:20190303T213717Z
DESCRIPTION:2. Bezirksliga B - Bezirk 2\nBegegnungs-Nr: 49\nHeim: Eckernförder MTV \nGast: SV Fockbek IV\n
LOCATION:
CATEGORIES:Saison 2016/17
END:VEVENT
BEGIN:VEVENT
DTSTAMP:20260419T164754Z
DTSTART;TZID=Europe/Berlin:20160923T193000
DTEND;TZID=Europe/Berlin:20160923T223000
SUMMARY:2. Bezirksliga B SV Fockbek III vs SV Fockbek IV (7)
UID:83382edd-367c-598e-e053-1fc7a80a5d7a
STATUS:CONFIRMED
LAST-MODIFIED:20190303T213718Z
DESCRIPTION:2. Bezirksliga B - Bezirk 2\nBegegnungs-Nr: 7\nHeim: SV Fockbek III\nGast: SV Fockbek IV\n
LOCATION:
CATEGORIES:Saison 2016/17
END:VEVENT
BEGIN:VEVENT
DTSTAMP:20260419T164754Z
DTSTART;TZID=Europe/Berlin:20170120T201500
DTEND;TZID=Europe/Berlin:20170120T231500
SUMMARY:2. Bezirksliga B Brügger SV  vs SV Fockbek IV (105)
UID:83382edd-3721-598e-e053-1fc7a80a5d7a
STATUS:CONFIRMED
LAST-MODIFIED:20190303T213718Z
DESCRIPTION:2. Bezirksliga B - Bezirk 2\nBegegnungs-Nr: 105\nHeim: Brügger SV \nGast: SV Fockbek IV\n
LOCATION:
CATEGORIES:Saison 2016/17
END:VEVENT
BEGIN:VEVENT
DTSTAMP:20260419T164754Z
DTSTART;TZID=Europe/Berlin:20170203T200000
DTEND;TZID=Europe/Berlin:20170203T230000
SUMMARY:2. Bezirksliga B Rendsburger TSV III vs SV Fockbek IV (113)
UID:83382edd-37c5-598e-e053-1fc7a80a5d7a
STATUS:CONFIRMED
LAST-MODIFIED:20190303T213718Z
DESCRIPTION:2. Bezirksliga B - Bezirk 2\nBegegnungs-Nr: 113\nHeim: Rendsburger TSV III\nGast: SV Fockbek IV\n
LOCATION:
CATEGORIES:Saison 2016/17
END:VEVENT
BEGIN:VEVENT
DTSTAMP:20260419T164754Z
DTSTART;TZID=Europe/Berlin:20170303T193000
DTEND;TZID=Europe/Berlin:20170303T223000
SUMMARY:2. Bezirksliga B Polizei SV Neumünster  vs SV Fockbek IV (132)
UID:83382edd-393f-598e-e053-1fc7a80a5d7a
STATUS:CONFIRMED
LAST-MODIFIED:20190303T213718Z
DESCRIPTION:2. Bezirksliga B - Bezirk 2\nBegegnungs-Nr: 132\nHeim: Polizei SV Neumünster \nGast: SV Fockbek IV\n
LOCATION:
CATEGORIES:Saison 2016/17
END:VEVENT
BEGIN:VEVENT
DTSTAMP:20260419T164754Z
DTSTART;TZID=Europe/Berlin:20170310T193000
DTEND;TZID=Europe/Berlin:20170310T223000
SUMMARY:2. Bezirksliga B Blau-Weiß Wittorf Neumünster  vs SV Fockbek IV (138)
UID:83382edd-39b4-598e-e053-1fc7a80a5d7a
STATUS:CONFIRMED
LAST-MODIFIED:20190303T213718Z
DESCRIPTION:2. Bezirksliga B - Bezirk 2\nBegegnungs-Nr: 138\nHeim: Blau-Weiß Wittorf Neumünster \nGast: SV Fockbek IV\n
LOCATION:
CATEGORIES:Saison 2016/17
END:VEVENT
BEGIN:VEVENT
DTSTAMP:20260419T164754Z
DTSTART;TZID=Europe/Berlin:20170324T200000
DTEND;TZID=Europe/Berlin:20170324T230000
SUMMARY:2. Bezirksliga B SV Wasbek  vs SV Fockbek IV (148)
UID:83382edd-3a64-598e-e053-1fc7a80a5d7a
STATUS:CONFIRMED
LAST-MODIFIED:20190303T213718Z
DESCRIPTION:2. Bezirksliga B - Bezirk 2\nBegegnungs-Nr: 148\nHeim: SV Wasbek \nGast: SV Fockbek IV\n
LOCATION:
CATEGORIES:Saison 2016/17
END:VEVENT
END:VCALENDAR
